BEGIN:VCALENDAR
VERSION:2.0
PRODID:-//Noris Block[E]rs Club - ECPv6.15.20//NONSGML v1.0//EN
CALSCALE:GREGORIAN
METHOD:PUBLISH
X-ORIGINAL-URL:https://www.noris-blockers.de
X-WR-CALDESC:Veranstaltungen für Noris Block[E]rs Club
REFRESH-INTERVAL;VALUE=DURATION:PT1H
X-Robots-Tag:noindex
X-PUBLISHED-TTL:PT1H
BEGIN:VTIMEZONE
TZID:Europe/Helsinki
BEGIN:DAYLIGHT
TZOFFSETFROM:+0200
TZOFFSETTO:+0300
TZNAME:EEST
DTSTART:20220327T010000
END:DAYLIGHT
BEGIN:STANDARD
TZOFFSETFROM:+0300
TZOFFSETTO:+0200
TZNAME:EET
DTSTART:20221030T010000
END:STANDARD
BEGIN:DAYLIGHT
TZOFFSETFROM:+0200
TZOFFSETTO:+0300
TZNAME:EEST
DTSTART:20230326T010000
END:DAYLIGHT
BEGIN:STANDARD
TZOFFSETFROM:+0300
TZOFFSETTO:+0200
TZNAME:EET
DTSTART:20231029T010000
END:STANDARD
BEGIN:DAYLIGHT
TZOFFSETFROM:+0200
TZOFFSETTO:+0300
TZNAME:EEST
DTSTART:20240331T010000
END:DAYLIGHT
BEGIN:STANDARD
TZOFFSETFROM:+0300
TZOFFSETTO:+0200
TZNAME:EET
DTSTART:20241027T010000
END:STANDARD
BEGIN:DAYLIGHT
TZOFFSETFROM:+0200
TZOFFSETTO:+0300
TZNAME:EEST
DTSTART:20250330T010000
END:DAYLIGHT
BEGIN:STANDARD
TZOFFSETFROM:+0300
TZOFFSETTO:+0200
TZNAME:EET
DTSTART:20251026T010000
END:STANDARD
BEGIN:DAYLIGHT
TZOFFSETFROM:+0200
TZOFFSETTO:+0300
TZNAME:EEST
DTSTART:20260329T010000
END:DAYLIGHT
BEGIN:STANDARD
TZOFFSETFROM:+0300
TZOFFSETTO:+0200
TZNAME:EET
DTSTART:20261025T010000
END:STANDARD
BEGIN:DAYLIGHT
TZOFFSETFROM:+0200
TZOFFSETTO:+0300
TZNAME:EEST
DTSTART:20270328T010000
END:DAYLIGHT
BEGIN:STANDARD
TZOFFSETFROM:+0300
TZOFFSETTO:+0200
TZNAME:EET
DTSTART:20271031T010000
END:STANDARD
END:VTIMEZONE
BEGIN:VEVENT
DTSTART;TZID=Europe/Helsinki:20260206T170000
DTEND;TZID=Europe/Helsinki:20260206T223000
DTSTAMP:20260421T172446
CREATED:20260202T193918Z
LAST-MODIFIED:20260202T193918Z
UID:2452-1770397200-1770417000@www.noris-blockers.de
SUMMARY:Auswärtsfahrt Bayreuth
DESCRIPTION:jetzt anmelden – per Nachricht über Instagram oder per Mail an fans.nbc@gmail.com
URL:https://www.noris-blockers.de/event/auswaertsfahrt-bayreuth/
END:VEVENT
BEGIN:VEVENT
DTSTART;TZID=Europe/Helsinki:20250111T150000
DTEND;TZID=Europe/Helsinki:20250111T233000
DTSTAMP:20260421T172446
CREATED:20241208T105022Z
LAST-MODIFIED:20241208T105022Z
UID:2384-1736607600-1736638200@www.noris-blockers.de
SUMMARY:Auswärtsfahrt nach Tübingen
DESCRIPTION:
URL:https://www.noris-blockers.de/event/auswaertsfahrt-nach-tuebingen/
END:VEVENT
BEGIN:VEVENT
DTSTART;TZID=Europe/Helsinki:20241211T183000
DTEND;TZID=Europe/Helsinki:20241211T220000
DTSTAMP:20260421T172446
CREATED:20241208T085255Z
LAST-MODIFIED:20241208T085255Z
UID:2376-1733941800-1733954400@www.noris-blockers.de
SUMMARY:Stammtisch
DESCRIPTION:
URL:https://www.noris-blockers.de/event/stammtisch/
LOCATION:Grizzly Stub`n\, Zeisigweg 70\, Nürnberg\, 90425
END:VEVENT
BEGIN:VEVENT
DTSTART;TZID=Europe/Helsinki:20240928T173000
DTEND;TZID=Europe/Helsinki:20240928T230000
DTSTAMP:20260421T172446
CREATED:20240831T180737Z
LAST-MODIFIED:20240831T180737Z
UID:2317-1727544600-1727564400@www.noris-blockers.de
SUMMARY:Auswärtsfahrt nach Crailshei
DESCRIPTION:FIRST STOP AWAY in CRAILSHEIM! Was haben wir es vermisst. \nBut it´s not called DERBY! Dennoch ist es die zweitnähste und somit einfach eine „Da muss man mit“ Auswärtsfahrt. \nLasst uns die Auktionshalle in Hohenlohe in schwarz-rot füllen und unser Team lauthals unterstützen. \nDie Fakten: \nAbfahrt 17:30 Uhr   –   P&R Langwasser Glogauer/Ecke Liegnitzer Str.   –   Rückkehr ca. 23:30 Uhr \nKosten für Bus inkl. Ticket für die ersten 40 Anmeldungen: \nNormalpreis: 41 € \nSchüler/Studenten: 36 € \nBlockErs: 31 € \nDanach erhöht sich der Preis um je 3€! \nAnmeldung per Email an fans.nbc@gmail.com \nDie Anmeldung richtet sich nach Reihenfolge des Email-Eingangs und wird erst mit Eingang der Überweisung auf unser Paypal- oder Sparkassenkonto endgültig wirksam. \nSollten sich bis 14 Tage vorher nicht genügend Teilnehmer angemeldet haben\, so wird die Fahrt abgesagt. Jeder erhält hier selbstverständlich sein Geld zurück.
URL:https://www.noris-blockers.de/event/auswaertsfahrt-nach-crailshei/
END:VEVENT
BEGIN:VEVENT
DTSTART;VALUE=DATE:20231029
DTEND;VALUE=DATE:20231030
DTSTAMP:20260421T172446
CREATED:20231012T091804Z
LAST-MODIFIED:20231017T153430Z
UID:2266-1698537600-1698623999@www.noris-blockers.de
SUMMARY:Auswärtsfahrt nach Jena
DESCRIPTION:  \nUnsere erste große Auswärtsfahrt führt uns ins Nahe Thüringen nach Jena. Hier gab es\, genau wie bei uns\, sehr viele Veränderungen im kompletten Team. So ist eine Einschätzung zum jetzigen Zeitpunkt keinesfalls möglich\, allerdings ist man in Jena bisher nicht sonderlich begeistert von der Entwicklung\, obwohl noch kein einziger Spieltag gespielt wurde. \nAlle Fakten zur Fahrt:\nTreffpunkt: 12:30 Uhr\nAbfahrt: 12:45 Uhr\nSpielbeginn: 16:30 Uhr\nRückkehr: ca. 21:30 Uhr\nAbfahrtsort: Pirnaer Straße / Ecke Äußere Bayreuther Straße (bei Obi) \nPreise für die Fahrt:\nNormalpreis 25 €\nSchüler und Studenten 20 €\nBlockErs Mitglieder 15 €\nzzgl. Ticket (13\,50 €/11\,50 €/8 €) \nEs gelten unsere allgemeinen Reisebedingungen\nhttps://www.noris-blockers.de/reisebedingungen/ \nDie Fahrt hierhin erfreute sich immer einer großen Teilnahme. Deshalb meldet euch frühzeitig an unter fans.nbc@gmail.com oder beim Heimspiel am Fantreffpunkt. Bitte auch die Angaben (Schüler\, Azubi\, Student\, Rentner…) bzgl. Tickets nicht vergessen\, sonst bestellen wir Tickets zum Normalpreis.
URL:https://www.noris-blockers.de/event/auswaertsfahrt-nach-jena/
ATTACH;FMTTYPE=image/png:https://www.noris-blockers.de/wp-content/uploads/2023/10/Auswaertsfahrt-Jena.png
END:VEVENT
BEGIN:VEVENT
DTSTART;TZID=Europe/Helsinki:20231017T080000
DTEND;TZID=Europe/Helsinki:20231017T170000
DTSTAMP:20260421T172446
CREATED:20231017T153742Z
LAST-MODIFIED:20231017T153742Z
UID:2276-1697529600-1697562000@www.noris-blockers.de
SUMMARY:Auswärtsfahrt nach Frankfurt
DESCRIPTION:Wir machen uns auf nach Hessen zu den Fraport Skyliners\, die aus der 1. Bundesliga zum 2. Mal abgestiegen sind. Die Saison vorher konnten sie nur durch den Kauf der Wildcard in der 1. Liga bleiben\, allerdings gelang es ihnen nicht\, die Liga zu halten. Somit spielen sie zum 1. Mal in der ProA. Sie sind selbstverständlich ambitioniert den sofortigen Wiederaufstieg zu schaffen. Den wenigsten Absteigern ist dies allerdings bisher gelungen! Wir wollen alles dafür tun\, ihnen einen Dämpfer zu geben und mit einem Sieg nach Hause fahren! Dafür braucht die Mannschaft natürlich auch euch zur Unterstützung! #mitfahren #supporten #sonntagsausflug \nAlle Fakten zur Fahrt:\nTreffpunkt: 10:45 Uhr\nAbfahrt: 11:00 Uhr\nSpielbeginn: 15:00 Uhr\nRückkehr: ca. 20:30 Uhr\nAbfahrtsort: Pirnaer Straße / Ecke Äußere Bayreuther Straße (bei Obi) \nPreise für die Fahrt:\nNormalpreis 25 €\nSchüler und Studenten 20 €\nBlockErs Mitglieder 15 €\nzzgl. Ticket (12 €/8 €) \nEs gelten unsere allgemeinen Reisebedingungen\nhttps://www.noris-blockers.de/reisebedingungen/ \nDie Fahrt findet nur statt\, wenn wir genügend Teilnehmer haben. Die Teilnehmerzahl muss 14 Tage vor Fahrtbeginn erreicht sein! Deshalb bitte frühzeitig anmelden unter fans.nbc@gmail.com oder beim Heimspiel am Fantreffpunkt. Bitte auch die Angaben (Schüler\, Azubi\, Student\, Rentner…) bzgl. Tickets nicht vergessen\, sonst bestellen wir Tickets zum Normalpreis.
URL:https://www.noris-blockers.de/event/auswaertsfahrt-nach-frankfurt/
ATTACH;FMTTYPE=image/png:https://www.noris-blockers.de/wp-content/uploads/2023/10/Auswaertsfahrt-Frankfurt.png
END:VEVENT
BEGIN:VEVENT
DTSTART;TZID=Europe/Helsinki:20230325T140000
DTEND;TZID=Europe/Helsinki:20230326T003000
DTSTAMP:20260421T172446
CREATED:20230212T183721Z
LAST-MODIFIED:20230212T183721Z
UID:2236-1679752800-1679790600@www.noris-blockers.de
SUMMARY:Auswärtsfahrt nach Gießen
DESCRIPTION:MITFAHREN\, DABEI SEIN und ANFEUERN!\nUnsere letzte Auswärtsfahrt in der regulären Saison führt uns nach Gießen. Viele können sich noch an die Duelle erinnern! Waren sie zwar nicht immer schön\, aber dennoch ist der Besuch in der Sporthalle-Ost aller Ehren wert…\nJe nach Nachfrage entscheiden wir 14 Tage vorher\, ob die Fahrt zustande kommt! Es gelten außerdem unsere Reisebedingungen: https://www.noris-blockers.de/reisebedingungen/\nDeshalb bitte frühzeitig anmelden an fans.nbc@gmail.com #HOBBETZ\nAlle Fakten zur Fahrt:\nTreffpunkt: 13:45 Uhr\nAbfahrtsort: Herrnhütte/Pirnaer Str. beim Obi\nSpielbeginn: 19:00 Uhr\nRückkehr in Nürnberg: ca. 0:30/1:00 Uhr\nPreise für die Fahrt (zzgl. Ticket):\nBlockErs Mitglieder: 20 €\nNormalpreis: 30 €\nSchüler und Studenten: 25 €\nTicketpreise (Stehplätze):\nVollzahler 14 €\nErmäßigt 11 € (Schüler\, Studenten\, Rentner und Personen mit Behinderung)\nKinder 8 € (bis 14 Jahre)\nBei Anmeldung bitte genaue Angaben zur Ticketbestellung
URL:https://www.noris-blockers.de/event/auswaertsfahrt-nach-giessen/
ATTACH;FMTTYPE=image/jpeg:https://www.noris-blockers.de/wp-content/uploads/2023/02/Giessen.jpeg
END:VEVENT
BEGIN:VEVENT
DTSTART;TZID=Europe/Helsinki:20230305T124500
DTEND;TZID=Europe/Helsinki:20230305T223000
DTSTAMP:20260421T172446
CREATED:20230125T131323Z
LAST-MODIFIED:20230212T171407Z
UID:2222-1678020300-1678055400@www.noris-blockers.de
SUMMARY:Auswärtsfahrt nach Kirchheim unter Teck
DESCRIPTION:MITFAHREN\, DABEI SEIN und ANFEUERN!\nUnsere nächste große Auswärtsfahrt führt uns nach Kirchheim unter Teck! Vielen von euch schon bekannt als Gartenstuhlparadies – muss man gesehen haben \nJe nach Nachfrage entscheiden wir 14 Tage vorher\, ob die Fahrt zustande kommt! Es gelten außerdem unsere Reisebedingungen: https://www.noris-blockers.de/reisebedingungen/\nDeshalb bitte frühzeitig anmelden an fans.nbc@gmail.com #HOBBETZ\nAlle Fakten zur Fahrt:\nTreffpunkt: 12:45 Uhr\nAbfahrtsort: P&R Langwasser Süd (Ecke Liegnitzer/ Glogauer Straße)\nSpielbeginn: 17:00 Uhr\nRückkehr in Langwasser Süd: ca. 22:30 Uhr\nPreise für die Fahrt (zzgl. Ticket):\nBlockErs Mitglieder: 20 €\nNormalpreis: 30 €\nSchüler und Studenten: 25 €\nTicketpreise (Stehplätze):\nVollzahler 12 €\nErmäßigt 8 € (Studenten\, Rentner und Personen mit Behinderung)\nKinder 6 € (Schüler und Auszubildende)\nBei Anmeldung bitte genaue Angaben zur Ticketbestellung
URL:https://www.noris-blockers.de/event/auswaertsfahrt-nach-kirchheim-unter-teck/
ATTACH;FMTTYPE=image/jpeg:https://www.noris-blockers.de/wp-content/uploads/2023/01/Auswaertsfahrt-Kirchheim.jpeg
END:VEVENT
BEGIN:VEVENT
DTSTART;TZID=Europe/Helsinki:20230228T183000
DTEND;TZID=Europe/Helsinki:20230228T220000
DTSTAMP:20260421T172446
CREATED:20230212T171603Z
LAST-MODIFIED:20230212T171603Z
UID:2233-1677609000-1677621600@www.noris-blockers.de
SUMMARY:Stammtisch für alle Fans der Nürnberg Falcons
DESCRIPTION:Nach dem großen Zuspruch des letzten Stammtisches\, haben wir uns entschlossen schnellstmöglich einen erneuten Stammtisch zu organisieren. Kommt vorbei\, trefft Gleichgesinnte und plaudert über den schönsten Sport und vieles mehr!
URL:https://www.noris-blockers.de/event/stammtisch-fuer-alle-fans-der-nuernberg-falcons/
LOCATION:BrotZeit\, Klaragasse 30\, Nürnberg\, Deutschland
ATTACH;FMTTYPE=image/jpeg:https://www.noris-blockers.de/wp-content/uploads/2023/02/Stammtisch.jpeg
END:VEVENT
END:VCALENDAR